BEGIN:VCALENDAR
VERSION:2.0
PRODID:-//wp-events-plugin.com//7.2.3.1//EN
TZID:America/New_York
X-WR-TIMEZONE:America/New_York
BEGIN:VEVENT
UID:696@inor.ca
DTSTART;TZID=America/New_York:20260407T163000
DTEND;TZID=America/New_York:20260407T203000
DTSTAMP:20260219T191741Z
URL:https://inor.ca/events/5-a-7-chez-hurleys-2026-02-24-2026-03-03-2026-0
 3-10-2026-03-17-2026-03-24-2026-03-31-2026-04-07/
SUMMARY:Pubkveld på Hurleys
DESCRIPTION:Vi møtes igjen på Hurley’s Irish Pub hver tirsdag (untatt
  juli og augst) kl. 16.30 i det koselige hjørnet “The Snug”.\n\nIkke 
 nødvendig å bestille på forhånd\, bare møt opp!\n\nAdressen er 1225 C
 rescent Street\, Montreal (514) 861-4111.\n\nEnten du er nykommer eller en
  del av den gamle gjengen er du like velkommen !
ATTACH;FMTTYPE=image/jpeg:https://inor.ca/wp-content/uploads/2013/03/Pub3.
 jpg
CATEGORIES:Norsk,Pub Night
LOCATION:Hurleys Irish Pub\, 1225 Crescent Street\, Montréal\, Québec\, C
 anada
GEO:45.496939;-73.574762
X-APPLE-STRUCTURED-LOCATION;VALUE=URI;X-ADDRESS=1225 Crescent Street\, Mont
 réal\, Québec\, Canada;X-APPLE-RADIUS=100;X-TITLE=Hurleys Irish Pub:geo:
 45.496939,-73.574762
END:VEVENT
BEGIN:VTIMEZONE
TZID:America/New_York
X-LIC-LOCATION:America/New_York
BEGIN:DAYLIGHT
DTSTART:20260308T030000
TZOFFSETFROM:-0500
TZOFFSETTO:-0400
TZNAME:EDT
END:DAYLIGHT
END:VTIMEZONE
END:VCALENDAR